BEGIN:VCALENDAR
VERSION:2.0
PRODID:-//Bay State Trail Riders Association - ECPv6.15.20//NONSGML v1.0//EN
CALSCALE:GREGORIAN
METHOD:PUBLISH
X-WR-CALNAME:Bay State Trail Riders Association
X-ORIGINAL-URL:https://bstra.org
X-WR-CALDESC:Events for Bay State Trail Riders Association
REFRESH-INTERVAL;VALUE=DURATION:PT1H
X-Robots-Tag:noindex
X-PUBLISHED-TTL:PT1H
BEGIN:VTIMEZONE
TZID:America/New_York
BEGIN:DAYLIGHT
TZOFFSETFROM:-0500
TZOFFSETTO:-0400
TZNAME:EDT
DTSTART:20180311T070000
END:DAYLIGHT
BEGIN:STANDARD
TZOFFSETFROM:-0400
TZOFFSETTO:-0500
TZNAME:EST
DTSTART:20181104T060000
END:STANDARD
BEGIN:DAYLIGHT
TZOFFSETFROM:-0500
TZOFFSETTO:-0400
TZNAME:EDT
DTSTART:20190310T070000
END:DAYLIGHT
BEGIN:STANDARD
TZOFFSETFROM:-0400
TZOFFSETTO:-0500
TZNAME:EST
DTSTART:20191103T060000
END:STANDARD
BEGIN:DAYLIGHT
TZOFFSETFROM:-0500
TZOFFSETTO:-0400
TZNAME:EDT
DTSTART:20200308T070000
END:DAYLIGHT
BEGIN:STANDARD
TZOFFSETFROM:-0400
TZOFFSETTO:-0500
TZNAME:EST
DTSTART:20201101T060000
END:STANDARD
END:VTIMEZONE
BEGIN:VEVENT
DTSTART;TZID=America/New_York:20191020T090000
DTEND;TZID=America/New_York:20191020T150000
DTSTAMP:20260423T163200
CREATED:20161001T205648Z
LAST-MODIFIED:20191015T184922Z
UID:4329-1571562000-1571583600@bstra.org
SUMMARY:Robinson State Park Fall Foliage Ride
DESCRIPTION:Ride Sponsor: J. F. Cove Insurance Agency\nCome join us and our co-hosts\, Scantic Valley Riders & Drivers\, as we explore Robinson State Forest that abuts the Westfield River in Feeding Hills MA. \nAddress: 428 North Street\, Feeding Hills MA \nCheck in: 9:30     Ride out: 10:00 \nLength: Your choice of a 9 mile loop or 6 mile loop. Or do both for 15 miles. \nPrice: $25\, BSTRA/Scantic Valley members $20. Juniors 17 and under\, 1/2 price. \nMeal included for pre-entries. Pre-entry deadline is Oct. 16th. \nNEHT Affiliated \nRequired: clean up your hay and manure from where you are parked. \nContact Sharron at 413-668-7606 or hiddenhollowacres@comcast.net \nClick on the flyer below to download registration form if you prefer to pay by mail. \n\nHorse Trailer Towing Clinic\n\n\n  \n  \nOn-line registration is a TWO PART process. Please complete BOTH the registration form and the payment part.\nPart 1:FIRST STEP. Please fill out the registration form below and hit send.\n[cf7form cf7key=”joint-ride-with-scantic”]\nPlease hit the send button before you make payment below.\nPart 2: Please pick the correct payment line from the drop down menu then click the Add to Cart button. You have the option of adding member and non-members to the cart.\n\n \n\n\n\nRobinson State Park\n\n\nNon-Member Adult $25.00 USDNon-Member Junior 17 & under $12.50 USDBSTRA/Scantic Member Adult $20.00 USDBSTRA/Scantic Junior 17 & under $10.00 USD
URL:https://bstra.org/event/fall-foliage-ride/
LOCATION:Robinson State Forest\, 428 North Street\, Feeding Hills\, MA\, 01030\, United States
ORGANIZER;CN="Sharron":MAILTO:hiddenhollowacres@comcast.net
END:VEVENT
END:VCALENDAR