BEGIN:VCALENDAR
VERSION:2.0
PRODID:-//Bay State Trail Riders Association - ECPv6.15.20//NONSGML v1.0//EN
CALSCALE:GREGORIAN
METHOD:PUBLISH
X-ORIGINAL-URL:https://bstra.org
X-WR-CALDESC:Events for Bay State Trail Riders Association
REFRESH-INTERVAL;VALUE=DURATION:PT1H
X-Robots-Tag:noindex
X-PUBLISHED-TTL:PT1H
BEGIN:VTIMEZONE
TZID:America/New_York
BEGIN:DAYLIGHT
TZOFFSETFROM:-0500
TZOFFSETTO:-0400
TZNAME:EDT
DTSTART:20200308T070000
END:DAYLIGHT
BEGIN:STANDARD
TZOFFSETFROM:-0400
TZOFFSETTO:-0500
TZNAME:EST
DTSTART:20201101T060000
END:STANDARD
BEGIN:DAYLIGHT
TZOFFSETFROM:-0500
TZOFFSETTO:-0400
TZNAME:EDT
DTSTART:20210314T070000
END:DAYLIGHT
BEGIN:STANDARD
TZOFFSETFROM:-0400
TZOFFSETTO:-0500
TZNAME:EST
DTSTART:20211107T060000
END:STANDARD
BEGIN:DAYLIGHT
TZOFFSETFROM:-0500
TZOFFSETTO:-0400
TZNAME:EDT
DTSTART:20220313T070000
END:DAYLIGHT
BEGIN:STANDARD
TZOFFSETFROM:-0400
TZOFFSETTO:-0500
TZNAME:EST
DTSTART:20221106T060000
END:STANDARD
END:VTIMEZONE
BEGIN:VEVENT
DTSTART;TZID=America/New_York:20210104T080000
DTEND;TZID=America/New_York:20210212T200000
DTSTAMP:20260420T143813
CREATED:20210104T153428Z
LAST-MODIFIED:20210104T160241Z
UID:9948-1609747200-1613160000@bstra.org
SUMMARY:BSTRA's Valentine's Day Photo Contest
DESCRIPTION:You and your equine love. Enter your best photo of the two of you decked out for Valentine’s Day. Best costumes win. \nTop 3 photos receive prizes\, and photos for all entries will appear on BSTRA’s Facebook Page and in The Bugle. \nFirst Place Prize: $50 Gift Certificate to The Saddle Shed PLUS $25 Gift Certificate to the Tractor Supply Co. \nSecond Place Prize: $50 Gift Certificate to The Mane Place \nThird Place Prize: $50 Gift Certificate to Hardwick Farmers Coop \nEntry Fee per photo: Members $10    Non-members: $15 \nSubmit your photos via email to: lynnparesky@aol.com and make sure to use BSTRA Valentine Photo Contest in the subject line. Include your name\, your horse’s name\, address\, telephone number and email address along with your photo. \nDeadline for submission is Feb. 12th\, 8 PM. \nThis will be a fun contest to be part of\, especially in the wintertime during the Covid pandemic when there isn’t a lot to do. \nHave fun\, show your love\, and good luck. Winners will be selected on Valentine’s Day.
URL:https://bstra.org/event/bstras-valentines-day-photo-contest/
LOCATION:CT
END:VEVENT
END:VCALENDAR